BEGIN:VCALENDAR
VERSION:2.0
BEGIN:VEVENT
URL:https://www.main-angler.de/aktuelles/events/viewevent/114-zander-im-hoch-sommer-erfolgreich-mit-der-spinnrute 
DTSTART:20150801T173000
DTEND:20150801T234500
SUMMARY:Zander im (Hoch) Sommer- erfolgreich mit der Spinnrute
DESCRIPTION:<p>Hallo Jungs und Mädels,</p>
<p>in diesem Seminar zeige ich Euch wie ich im Sommer den Zander mit der Spinnrute (vom Ufer) nachstelle. Eingangs gibt es einen kurzen Theorie- Teil, in dem ich auf das Material, die Standplätze, sowie meine Taktik eingehe. Anschließend folgt der Praxisteil, hier lege ich den Schwerpunkt auf die richtige Köderpräsentation- denn gerade beim Zanderangeln ist das richtige Köderspiel entscheidend für den Erfolg.</p>
<p>Wer teilnehmen möchte, bringt bitte sein "Werkzeug" mit- gerne auch Gummifische und flach laufende Wobbler. Ich hab natürlich auch einige Köder aus meiner Werkstatt dabei, die gerne getestet werden können.</p>
<p>Wichtig: Da wir in der Dämmerung bzw. Nachts fischen werden wäre eine Kopflampe und ausreichend Insektenschutz wärmstens zu empfehlen...(lange Kleidung wäre trotz Hitze auch nicht schlecht- ich spreche da aus Erfahrung- selbst mit Insektenschutz massakrieren einen die Mosquitos!!)</p>
<p>Ich freue mich auf jeden Teilnehmer- gemeinsam schaffen wir es bestimmt den ein oder anderen Zander zu überlisten!</p>
<p>Bis dahin genießt die Sonne am Tag- Nachts wird nämlich geangelt :-)</p>
<p>Beste Grüße</p>
<p>Angelol</p>
LOCATION:Schleuse Harbach/ Unterwasser
END:VEVENT
END:VCALENDAR