BEGIN:VCALENDAR
VERSION:2.0
BEGIN:VEVENT
URL:https://www.main-angler.de/aktuelles/events/viewevent/236-fliegenfischen-filmfestival 
DTSTART:20260411T000000
DTEND:20260411T151500
SUMMARY:Fliegenfischen-Filmfestival 
DESCRIPTION:<span>Fly Fishing Film Tour (F3T) 2026</span><div>20 Jahre Fliegenfischen auf der Kinoleinwand</div><div>Im März und April 2026 kehrt die Fly Fishing Film Tour zum 20-jährigen Jubiläum in die Kinos im deutschsprachigen Raum zurück. Über mehrere Wochen hinweg zeigt das internationale Festival in Deutschland, Österreich und der Schweiz eine kuratierte Auswahl aktueller Fliegenfischfilme aus aller Welt. Seit zwei Jahrzehnten steht die F3T für hochwertiges Fliegenfisch-Kino. Was als kleine Filmreihe begann, ist heute ein weltweit etabliertes Festival mit hunderten Shows pro Jahr in über einem Dutzend Ländern – der deutschsprachige Raum ist dabei seit vielen Jahren fester Bestandteil der Tour.</div>
LOCATION:Mal sehen Kino, Adlerflychstr. 6 Frankfurt
END:VEVENT
END:VCALENDAR